BEGIN:VCALENDAR
VERSION:2.0
PRODID:-//wp-events-plugin.com//7.2.3.1//EN
TZID:Australia/Perth
X-WR-TIMEZONE:Australia/Perth
BEGIN:VEVENT
UID:1889@thefalknersarms.co.uk
DTSTART;TZID=Australia/Perth:20191109T210000
DTEND;TZID=Australia/Perth:20191109T210000
DTSTAMP:20190410T121740Z
URL:https://thefalknersarms.co.uk/events/the-originals-4/
SUMMARY:The Originals
DESCRIPTION:\n\nA warm welcome back to the band labelled as Berkshire’s p
 remier dance band.\n\nThe Originals play rock and pop hits from the swingi
 ng 60s to the present day. This will be one hellova night!\n\nwww.the-orig
 inals.co.uk
END:VEVENT
BEGIN:VTIMEZONE
TZID:Australia/Perth
X-LIC-LOCATION:Australia/Perth
BEGIN:STANDARD
DTSTART:20181109T210000
TZOFFSETFROM:+0800
TZOFFSETTO:+0800
TZNAME:AWST
END:STANDARD
END:VTIMEZONE
END:VCALENDAR