BEGIN:VCALENDAR
VERSION:2.0
PRODID:-//wp-events-plugin.com//7.2.3.1//EN
TZID:Australia/Perth
X-WR-TIMEZONE:Australia/Perth
BEGIN:VEVENT
UID:1629@thefalknersarms.co.uk
DTSTART;TZID=Australia/Perth:20181229T210000
DTEND;TZID=Australia/Perth:20181229T210000
DTSTAMP:20181211T134739Z
URL:https://thefalknersarms.co.uk/events/the-cobbles-2/
SUMMARY:Men Behaving Sadly
DESCRIPTION:\n\nA change to our advertised band\, and a chance to give a we
 lcome Falkners debut to an explosive band bringing the best rock &amp\; po
 p and the odd punky anthem!\n Just the dance warm up we need before the N
 ew Year party!\n\nwww.menbehaving sadly.com
END:VEVENT
BEGIN:VTIMEZONE
TZID:Australia/Perth
X-LIC-LOCATION:Australia/Perth
BEGIN:STANDARD
DTSTART:20171229T210000
TZOFFSETFROM:+0800
TZOFFSETTO:+0800
TZNAME:AWST
END:STANDARD
END:VTIMEZONE
END:VCALENDAR