BEGIN:VCALENDAR
VERSION:2.0
PRODID:-//wp-events-plugin.com//7.2.3.1//EN
TZID:Australia/Perth
X-WR-TIMEZONE:Australia/Perth
BEGIN:VEVENT
UID:1578@thefalknersarms.co.uk
DTSTART;TZID=Australia/Perth:20180217T210000
DTEND;TZID=Australia/Perth:20180217T210000
DTSTAMP:20180103T153531Z
URL:https://thefalknersarms.co.uk/events/saturday-night-live-groove-republ
 ic-3/
SUMMARY:Saturday Night Live\, Groove Republic
DESCRIPTION:\n\nAhh\, one of our favourite bands of all time!!!\n\nIf you l
 ike to strut your funky stuff then this is the band for you - the area's p
 remier 70s and 80s Funk\, Soul and Disco covers band returns to the area's
  premier live music venue!\nAbsolutely brilliant!\n\nwww.groove-republic.c
 om
END:VEVENT
BEGIN:VTIMEZONE
TZID:Australia/Perth
X-LIC-LOCATION:Australia/Perth
BEGIN:STANDARD
DTSTART:20170217T210000
TZOFFSETFROM:+0800
TZOFFSETTO:+0800
TZNAME:AWST
END:STANDARD
END:VTIMEZONE
END:VCALENDAR