BEGIN:VCALENDAR
VERSION:2.0
PRODID:-//wp-events-plugin.com//7.2.3.1//EN
TZID:Australia/Perth
X-WR-TIMEZONE:Australia/Perth
BEGIN:VEVENT
UID:2573@thefalknersarms.co.uk
DTSTART;TZID=Australia/Perth:20220903T210000
DTEND;TZID=Australia/Perth:20220903T210000
DTSTAMP:20220629T161310Z
URL:https://thefalknersarms.co.uk/events/heathrow-jets-3/
SUMMARY:Heathrow Jets
DESCRIPTION:\n\nParty with rock covers band Heathrow Jets at Fleet's top li
 ve music venue and sing-along to all your favourite indie rock tunes and t
 he best 'classic punk' ... with songs by Foo Fighters\, The Killers\, Kais
 er Chiefs\, Kings of Leon\, Green Day\, Stereophonics\, The Clash\, Sex Pi
 stols\, the Buzzcocks and many more! Are you ready to join the party?!
END:VEVENT
BEGIN:VTIMEZONE
TZID:Australia/Perth
X-LIC-LOCATION:Australia/Perth
BEGIN:STANDARD
DTSTART:20210903T210000
TZOFFSETFROM:+0800
TZOFFSETTO:+0800
TZNAME:AWST
END:STANDARD
END:VTIMEZONE
END:VCALENDAR